BEGIN:VCALENDAR
VERSION:2.0
PRODID:-//CEEI Valencia//EmprenemJunts//ES
BEGIN:VEVENT
UID:Evento_5572
DTSTAMP:20130606T063300Z
DTSTART:20130606T063300Z
DTEND:20130606T063300Z
SUMMARY:Evento probatorio
DESCRIPTION:probando
LOCATION:
URL:https://ceeivalencia.emprenemjunts.es/?op=14&n=5572
END:VEVENT
END:VCALENDAR
