BEGIN:VCALENDAR
VERSION:2.0
PRODID:-//CEEI Valencia//EmprenemJunts//ES
BEGIN:VEVENT
UID:Evento_526
DTSTAMP:20090720T070000Z
DTSTART:20090720T070000Z
DTEND:20090724T120000Z
SUMMARY:Curso: \"Innovación y tecnología: Un sector emergente de posibilidades laborales\" 
DESCRIPTION:
LOCATION:Alicante
URL:https://ceeivalencia.emprenemjunts.es/?op=14&n=526
END:VEVENT
END:VCALENDAR
