BEGIN:VCALENDAR
VERSION:2.0
PRODID:-//CEEI Castellón//EmprenemJunts//ES
BEGIN:VEVENT
UID:Evento_524
DTSTAMP:20090623T073000Z
DTSTART:20090623T073000Z
DTEND:20090625T113000Z
SUMMARY:WORKSHOP: InnovaciÃ³n en la prÃ¡ctica
DESCRIPTION:
LOCATION:CastellÃ³n
URL:https://ceeicastellon.emprenemjunts.es/?op=14&n=524
END:VEVENT
END:VCALENDAR
