BEGIN:VCALENDAR
VERSION:2.0
PRODID:-//CEEI Valencia//EmprenemJunts//ES
BEGIN:VEVENT
UID:Evento_500
DTSTAMP:20090518T080000Z
DTSTART:20090518T080000Z
DTEND:20090525T123000Z
SUMMARY:Curso de Formación en Gestión de la Innovación Tecnológica
DESCRIPTION:
LOCATION:Valencia
URL:https://ceeivalencia.emprenemjunts.es/?op=14&n=500
END:VEVENT
END:VCALENDAR
