BEGIN:VCALENDAR
VERSION:2.0
PRODID:-//Entrepreneurship//EmprenemJunts//ES
BEGIN:VEVENT
UID:Evento_4084
DTSTAMP:20120926T112100Z
DTSTART:20120123T122100Z
DTEND:20120123T122100Z
SUMMARY:Ciudad Emprendedora
DESCRIPTION:Evento de área/zona. Pruebas de macrojornada
LOCATION:Orihuela
URL:https://entrepreneurship.emprenemjunts.es/?op=14&n=4084
END:VEVENT
END:VCALENDAR
