BEGIN:VCALENDAR
VERSION:2.0
PRODID:-//CEEI Alcoy//EmprenemJunts//ES
BEGIN:VEVENT
UID:Evento_340
DTSTAMP:20090225T083000Z
DTSTART:20090225T083000Z
DTEND:20090225T183000Z
SUMMARY:Jornada: La profesión de sociólogo: el empleo como objetivo
DESCRIPTION:
LOCATION:San Vicente del Raspeig
URL:https://ceeialcoi.emprenemjunts.es/?op=14&n=340
END:VEVENT
END:VCALENDAR
