BEGIN:VCALENDAR
VERSION:2.0
PRODID:-//CEEI Valencia//EmprenemJunts//ES
BEGIN:VEVENT
UID:Evento_26582
DTSTAMP:20260417T070953Z
DTSTART:20260423T170000Z
DTEND:20260423T182000Z
SUMMARY:Seminario Étnor: Europa y el Sur Global, del desencanto a la autonomía cooperativa
DESCRIPTION:El 23 de abril en Valencia
LOCATION:Valencia (Valencia)
URL:https://ceeivalencia.emprenemjunts.es/?op=14&n=26582
GEO:39.468876;-0.371843
END:VEVENT
END:VCALENDAR
