BEGIN:VCALENDAR
VERSION:2.0
PRODID:-//CEEI Elche//EmprenemJunts//ES
BEGIN:VEVENT
UID:Evento_26318
DTSTAMP:20260304T104243Z
DTSTART:20260310T143000Z
DTEND:20260310T163000Z
SUMMARY:Diseño e innovación en modelos de negocio. Mejora la experiencia de tu cliente
DESCRIPTION:Aprende a desarrollar un proyecto empresarial y mejorar la experiencia de tus consumidores
LOCATION:Aspe (Alicante)
URL:https://ceeielche.emprenemjunts.es/?op=14&n=26318
GEO:38.345066;-0.769016
END:VEVENT
END:VCALENDAR
