BEGIN:VCALENDAR
VERSION:2.0
PRODID:-//CEEI Valencia//EmprenemJunts//ES
BEGIN:VEVENT
UID:Evento_26313
DTSTAMP:20260304T074304Z
DTSTART:20260505T160000Z
DTEND:20260505T183000Z
SUMMARY:Construir sin humo: de la tracción al exit, pasando por el producto - Demo Day Scale Up 2026
DESCRIPTION:Con Ignacio Arriaga (Disaaster y Acumbamail) y Javi Santana (Tinybird y ex Carto) | IVACE+i y CEEI Valencia organizan el Demo Day de Scale Up
LOCATION:Valencia (Valencia)
URL:https://ceeivalencia.emprenemjunts.es/?op=14&n=26313
GEO:39.469582;-0.324831
END:VEVENT
END:VCALENDAR
