BEGIN:VCALENDAR
VERSION:2.0
PRODID:-//CEEI Valencia//EmprenemJunts//ES
BEGIN:VEVENT
UID:Evento_26052
DTSTAMP:20260126T090152Z
DTSTART:20260127T083000Z
DTEND:20260127T100000Z
SUMMARY:Desayuno Networking «Digitalización de Operaciones Internacionales»
DESCRIPTION:
LOCATION:Valencia (Valencia)
URL:https://ceeivalencia.emprenemjunts.es/?op=14&n=26052
GEO:39.475117;-0.374509
END:VEVENT
END:VCALENDAR
