BEGIN:VCALENDAR
VERSION:2.0
PRODID:-//CEEI Valencia//EmprenemJunts//ES
BEGIN:VEVENT
UID:Evento_26035
DTSTAMP:20260121T145807Z
DTSTART:20260205T080000Z
DTEND:20260205T123000Z
SUMMARY:IX Jornada Sobre Industria 5.0. Inteligencia Artificial
DESCRIPTION:
LOCATION:Valencia (Valencia)
URL:https://ceeivalencia.emprenemjunts.es/?op=14&n=26035
END:VEVENT
END:VCALENDAR
