BEGIN:VCALENDAR
VERSION:2.0
PRODID:-//CEEI Elche//EmprenemJunts//ES
BEGIN:VEVENT
UID:Evento_25875
DTSTAMP:20251216T094006Z
DTSTART:20260130T083000Z
DTEND:20260130T093000Z
SUMMARY:V edición | Café con Charlas, Encuentros y Oportunidades
DESCRIPTION:Comprende cómo funciona la economía circular y conoce el proyecto del Clúster de Economía Circular
LOCATION:Elx/Elche (Alicante)
URL:https://ceeielche.emprenemjunts.es/?op=14&n=25875
GEO:38.278866;-0.689442
END:VEVENT
END:VCALENDAR
