BEGIN:VCALENDAR
VERSION:2.0
PRODID:-//CEEI Valencia//EmprenemJunts//ES
BEGIN:VEVENT
UID:Evento_25782
DTSTAMP:20251125T100122Z
DTSTART:20251218T090000Z
DTEND:20251218T130000Z
SUMMARY:Jornada Alicante Cierre Ejercicio Fiscal 2025
DESCRIPTION:D. Alfonso García Tavares, Administrador de la AEAT de Benidorm.
LOCATION:Alacant/Alicante (Alicante)
URL:https://ceeivalencia.emprenemjunts.es/?op=14&n=25782
GEO:38.356293;-0.471189
END:VEVENT
END:VCALENDAR
