BEGIN:VCALENDAR
VERSION:2.0
PRODID:-//CEEI Valencia//EmprenemJunts//ES
BEGIN:VEVENT
UID:Evento_25344
DTSTAMP:20250916T113239Z
DTSTART:20250926T070000Z
DTEND:20250926T120000Z
SUMMARY:VIII Jornada Legaltech. Súmate al cambio tecnológico con emprendimiento
DESCRIPTION:26 de septiembre en Valencia
LOCATION:Valencia (Valencia)
URL:https://ceeivalencia.emprenemjunts.es/?op=14&n=25344
GEO:39.472641;-0.374000
END:VEVENT
END:VCALENDAR
