BEGIN:VCALENDAR
VERSION:2.0
PRODID:-//CEEI Valencia//EmprenemJunts//ES
BEGIN:VEVENT
UID:Evento_25320
DTSTAMP:20250909T125909Z
DTSTART:20250918T100000Z
DTEND:20250918T110000Z
SUMMARY:Open Day  Presentación XIX Edición del Máster online en Tecnología de envases y embalajes | Edición especial PPWR
DESCRIPTION:Online - Gratuito
LOCATION:Paterna (Valencia)
URL:https://ceeivalencia.emprenemjunts.es/?op=14&n=25320
GEO:39.549099;-0.460091
END:VEVENT
END:VCALENDAR
