BEGIN:VCALENDAR
VERSION:2.0
PRODID:-//CEEI Valencia//EmprenemJunts//ES
BEGIN:VEVENT
UID:Evento_24977
DTSTAMP:20250527T142147Z
DTSTART:20251021T063000Z
DTEND:20251021T170000Z
SUMMARY:The Gap in Between 2025
DESCRIPTION:Future Foward Business. El 21 de octubre en La Marina de Valencia
LOCATION:Valencia (Valencia)
URL:https://ceeivalencia.emprenemjunts.es/?op=14&n=24977
GEO:39.456650;-0.329062
END:VEVENT
END:VCALENDAR
