BEGIN:VCALENDAR
VERSION:2.0
PRODID:-//CEEI Valencia//EmprenemJunts//ES
BEGIN:VEVENT
UID:Evento_24817
DTSTAMP:20250424T133511Z
DTSTART:20250614T070000Z
DTEND:20250614T190000Z
SUMMARY:AEDIPE Talenthack
DESCRIPTION:Transformando el talento en innovación. Hasta 1.000 en premios. El 14 de junio en Valencia
LOCATION:Valencia (Valencia)
URL:https://ceeivalencia.emprenemjunts.es/?op=14&n=24817
GEO:39.479546;-0.384162
END:VEVENT
END:VCALENDAR
