BEGIN:VCALENDAR
VERSION:2.0
PRODID:-//CEEI Elche//EmprenemJunts//ES
BEGIN:VEVENT
UID:Evento_24690
DTSTAMP:20250327T111346Z
DTSTART:20250429T140000Z
DTEND:20250429T180000Z
SUMMARY:Programa Superior de Liderazgo para Directivas
DESCRIPTION:Organizado por AEPA
LOCATION:Alacant/Alicante (Alicante)
URL:https://ceeielche.emprenemjunts.es/?op=14&n=24690
END:VEVENT
END:VCALENDAR
