BEGIN:VCALENDAR
VERSION:2.0
PRODID:-//CEEI Valencia//EmprenemJunts//ES
BEGIN:VEVENT
UID:Evento_24316
DTSTAMP:20250117T124216Z
DTSTART:20250130T170000Z
DTEND:20250130T193000Z
SUMMARY:NAO SAM: Invertir con la vista en 2025
DESCRIPTION:
LOCATION:Valencia (Valencia)
URL:https://ceeivalencia.emprenemjunts.es/?op=14&n=24316
GEO:39.475117;-0.374509
END:VEVENT
END:VCALENDAR
