BEGIN:VCALENDAR
VERSION:2.0
PRODID:-//Nacional//EmprenemJunts//ES
BEGIN:VEVENT
UID:Evento_23936
DTSTAMP:20240927T103036Z
DTSTART:20241018T100000Z
DTEND:20241018T120000Z
SUMMARY:Webinar: IP Y VIGILANCIA ESTRATÉGICA, CONCEPTOS Y HERRAMIENTAS
DESCRIPTION:Ponencia de Ana García Lorenzo, de CEEI ASTURIAS
LOCATION:-
URL:https://emprenderycrecer.emprenemjunts.es/?op=14&n=23936
END:VEVENT
END:VCALENDAR
