BEGIN:VCALENDAR
VERSION:2.0
PRODID:-//CEEI Alcoy//EmprenemJunts//ES
BEGIN:VEVENT
UID:Evento_23924
DTSTAMP:20240926T064836Z
DTSTART:20241021T170000Z
DTEND:20241021T183000Z
SUMMARY:Afterwork Emprenedor: Como crear tu propio mercado
DESCRIPTION:No te pierdas el segundo afterwork emprendedor de Alcoy. Conocerás éxitos locales, nuevos contactos y cómo comenzar tu startup, proyecto o empresa
LOCATION:Alcoi/Alcoy (Alicante)
URL:https://ceeialcoi.emprenemjunts.es/?op=14&n=23924
GEO:38.695156;-0.473517
END:VEVENT
END:VCALENDAR
