BEGIN:VCALENDAR
VERSION:2.0
PRODID:-//CEEI Valencia//EmprenemJunts//ES
BEGIN:VEVENT
UID:Evento_23885
DTSTAMP:20240916T135629Z
DTSTART:20240918T160000Z
DTEND:20240918T170000Z
SUMMARY:Infoday Rural ClimAccelerator Iberian
DESCRIPTION:Unlocking Innovation for Sustainable Rural Iberian Peninsula: Explore the Rural ClimAccelerator Iberian Initiative
LOCATION:
URL:https://ceeivalencia.emprenemjunts.es/?op=14&n=23885
END:VEVENT
END:VCALENDAR
