BEGIN:VCALENDAR
VERSION:2.0
PRODID:-//CEEI Valencia//EmprenemJunts//ES
BEGIN:VEVENT
UID:Evento_23196
DTSTAMP:20240402T081204Z
DTSTART:20240403T071500Z
DTEND:20240626T084500Z
SUMMARY:GestiónARTE: Talleres para emprender
DESCRIPTION:Talleres de obligaciones fiscales, contables y laborales
LOCATION:Valencia (Valencia)
URL:https://ceeivalencia.emprenemjunts.es/?op=14&n=23196
END:VEVENT
END:VCALENDAR
