BEGIN:VCALENDAR
VERSION:2.0
PRODID:-//CEEI Valencia//EmprenemJunts//ES
BEGIN:VEVENT
UID:Evento_22411
DTSTAMP:20231004T085107Z
DTSTART:20231018T170000Z
DTEND:20231018T190000Z
SUMMARY:Impacto en la innovación de la Pymes | Innovar con impacto
DESCRIPTION:Club de innovación del Ateneo Mercantil
LOCATION:Valencia (Valencia)
URL:https://ceeivalencia.emprenemjunts.es/?op=14&n=22411
GEO:39.471176;-0.376286
END:VEVENT
END:VCALENDAR
