BEGIN:VCALENDAR
VERSION:2.0
PRODID:-//CEEI Elche//EmprenemJunts//ES
BEGIN:VEVENT
UID:Evento_21790
DTSTAMP:20230424T103841Z
DTSTART:20230427T080000Z
DTEND:20230427T103000Z
SUMMARY:Finanzas para empresas de base tecnológica
DESCRIPTION:STARTUP INNOVATION
LOCATION:Sant Vicent del Raspeig/San Vicente del Raspeig (Alicante)
URL:https://ceeielche.emprenemjunts.es/?op=14&n=21790
GEO:38.383121;-0.526374
END:VEVENT
END:VCALENDAR
