BEGIN:VCALENDAR
VERSION:2.0
PRODID:-//CEEI Castellón//EmprenemJunts//ES
BEGIN:VEVENT
UID:Evento_21435
DTSTAMP:20230202T145418Z
DTSTART:20230403T090000Z
DTEND:20230403T110000Z
SUMMARY:Taller 11: Impulsa Ventas. Taller prÃ¡ctico de tÃ©cnica y habilidad vendedora
DESCRIPTION:Programa de formaciÃ³n para la creaciÃ³n y consolidaciÃ³n de empresas organizado por ONDA GENERA
LOCATION:Onda (CastellÃ³n)
URL:https://ceeicastellon.emprenemjunts.es/?op=14&n=21435
GEO:39.951477;-0.180339
END:VEVENT
END:VCALENDAR
