BEGIN:VCALENDAR
VERSION:2.0
PRODID:-//CEEI Elche//EmprenemJunts//ES
BEGIN:VEVENT
UID:Evento_21272
DTSTAMP:20221130T143319Z
DTSTART:20221215T090000Z
DTEND:20221215T103000Z
SUMMARY:Estrategias Omnicanal con SHOPIFY PLUS y SHOPIFY POS
DESCRIPTION:
LOCATION:
URL:https://ceeielche.emprenemjunts.es/?op=14&n=21272
END:VEVENT
END:VCALENDAR
