BEGIN:VCALENDAR
VERSION:2.0
PRODID:-//CEEI Valencia//EmprenemJunts//ES
BEGIN:VEVENT
UID:Evento_21195
DTSTAMP:20221114T111236Z
DTSTART:20221124T110000Z
DTEND:20221124T130000Z
SUMMARY:Sesión divulgativa sobre Criptomonedas
DESCRIPTION:
LOCATION:Valencia (Valencia)
URL:https://ceeivalencia.emprenemjunts.es/?op=14&n=21195
GEO:39.456390;-0.330736
END:VEVENT
END:VCALENDAR
