BEGIN:VCALENDAR
VERSION:2.0
PRODID:-//Nacional//EmprenemJunts//ES
BEGIN:VEVENT
UID:Evento_21022
DTSTAMP:20221018T152317Z
DTSTART:20221202T110000Z
DTEND:20221202T130000Z
SUMMARY:3ª SESIÓN womANCES Creación de Startups del Sector Salud
DESCRIPTION:
LOCATION:
URL:https://emprenderycrecer.emprenemjunts.es/?op=14&n=21022
END:VEVENT
END:VCALENDAR
