BEGIN:VCALENDAR
VERSION:2.0
PRODID:-//CEEI Valencia//EmprenemJunts//ES
BEGIN:VEVENT
UID:Evento_20901
DTSTAMP:20220919T073403Z
DTSTART:20221006T073000Z
DTEND:20221006T133000Z
SUMMARY:Mentoring Ilimitado
DESCRIPTION:
LOCATION:Valencia (Valencia)
URL:https://ceeivalencia.emprenemjunts.es/?op=14&n=20901
GEO:39.471260;-0.369007
END:VEVENT
END:VCALENDAR
