BEGIN:VCALENDAR
VERSION:2.0
PRODID:-//CEEI Valencia//EmprenemJunts//ES
BEGIN:VEVENT
UID:Evento_20612
DTSTAMP:20220616T085822Z
DTSTART:20220706T173000Z
DTEND:20220706T183000Z
SUMMARY:Presentación del libro de Carlos Barreto
DESCRIPTION:\"Para gestionar tu ansiedad al hablar en público: sonríe, respira y habla con calma\"
LOCATION:
URL:https://ceeivalencia.emprenemjunts.es/?op=14&n=20612
END:VEVENT
END:VCALENDAR
