BEGIN:VCALENDAR
VERSION:2.0
PRODID:-//CEEI Valencia//EmprenemJunts//ES
BEGIN:VEVENT
UID:Evento_19960
DTSTAMP:20220221T083847Z
DTSTART:20220223T160000Z
DTEND:20220223T180000Z
SUMMARY:Seminario Presencial Financiación Alternativa en mercados: Caso de Éxito de Cuatroochenta?
DESCRIPTION:El próximo día 23 de febrero a las 17.00 horas
LOCATION:Valencia (Valencia)
URL:https://ceeivalencia.emprenemjunts.es/?op=14&n=19960
GEO:39.476749;-0.373330
END:VEVENT
END:VCALENDAR
