BEGIN:VCALENDAR
VERSION:2.0
PRODID:-//CEEI Valencia//EmprenemJunts//ES
BEGIN:VEVENT
UID:Evento_19594
DTSTAMP:20211115T082751Z
DTSTART:20211124T080000Z
DTEND:20211124T083000Z
SUMMARY:Café-bienvenida
DESCRIPTION:
LOCATION:Valencia (Valencia)
URL:https://ceeivalencia.emprenemjunts.es/?op=14&n=19594
GEO:39.474270;-0.376740
END:VEVENT
END:VCALENDAR
