BEGIN:VCALENDAR
VERSION:2.0
PRODID:-//CEEI Valencia//EmprenemJunts//ES
BEGIN:VEVENT
UID:Evento_19404
DTSTAMP:20211020T200339Z
DTSTART:20211028T163000Z
DTEND:20211028T190000Z
SUMMARY:4ª ed. Noche de la Bio y Entrega de Premios Bioval 2021
DESCRIPTION:El evento tendrá lugar el 28 de octubre de 2021 en el Palau de les Arts Reina Sofia
LOCATION:Valencia (Valencia)
URL:https://ceeivalencia.emprenemjunts.es/?op=14&n=19404
GEO:39.458031;-0.358012
END:VEVENT
END:VCALENDAR
