BEGIN:VCALENDAR
VERSION:2.0
PRODID:-//CEEI Valencia//EmprenemJunts//ES
BEGIN:VEVENT
UID:Evento_19310
DTSTAMP:20211006T081412Z
DTSTART:20211007T170000Z
DTEND:20211007T174500Z
SUMMARY:¿Cómo sumar al mejor equipo a tu Startup?
DESCRIPTION:Con Alma Campos y Andrea Gellibert
LOCATION:
URL:https://ceeivalencia.emprenemjunts.es/?op=14&n=19310
END:VEVENT
END:VCALENDAR
