BEGIN:VCALENDAR
VERSION:2.0
PRODID:-//CEEI Alcoy//EmprenemJunts//ES
BEGIN:VEVENT
UID:Evento_18307
DTSTAMP:20210301T091301Z
DTSTART:20210302T090000Z
DTEND:20210302T100000Z
SUMMARY:Rumb a Ocupabilitat
DESCRIPTION:Dimarts 2 de Març de 10 a 11
LOCATION:
URL:https://ceeialcoi.emprenemjunts.es/?op=14&n=18307
END:VEVENT
END:VCALENDAR
