BEGIN:VCALENDAR
VERSION:2.0
PRODID:-//CEEI Alcoy//EmprenemJunts//ES
BEGIN:VEVENT
UID:Evento_18253
DTSTAMP:20210217T121644Z
DTSTART:20210222T090000Z
DTEND:20210226T110000Z
SUMMARY:Jornadas Agenda 2030, Trabajo Decente y Crecimiento Económico
DESCRIPTION:Del 22 al 26 de febrero
LOCATION:
URL:https://ceeialcoi.emprenemjunts.es/?op=14&n=18253
END:VEVENT
END:VCALENDAR
