BEGIN:VCALENDAR
VERSION:2.0
PRODID:-//CEEI Valencia//EmprenemJunts//ES
BEGIN:VEVENT
UID:Evento_18064
DTSTAMP:20210118T123855Z
DTSTART:20210127T150000Z
DTEND:20210127T163000Z
SUMMARY:Ftalks Editions: Zero Waste & Sustainable Packaging
DESCRIPTION:27 de enero a las 16h (CET)
LOCATION:
URL:https://ceeivalencia.emprenemjunts.es/?op=14&n=18064
END:VEVENT
END:VCALENDAR
