BEGIN:VCALENDAR
VERSION:2.0
PRODID:-//CEEI Elche//EmprenemJunts//ES
BEGIN:VEVENT
UID:Evento_17852
DTSTAMP:20201110T123201Z
DTSTART:20201116T170000Z
DTEND:20201126T193000Z
SUMMARY:Taller Online: La estructura profunda de la mente. Representación de la experiencia
DESCRIPTION:Descubre todos los secretos de tu mente como nadie te los había contado antes.
LOCATION:
URL:https://ceeielche.emprenemjunts.es/?op=14&n=17852
END:VEVENT
END:VCALENDAR
