BEGIN:VCALENDAR
VERSION:2.0
PRODID:-//CEEI Elche//EmprenemJunts//ES
BEGIN:VEVENT
UID:Evento_17776
DTSTAMP:20201027T142711Z
DTSTART:20201119T091500Z
DTEND:20201119T094500Z
SUMMARY:Iniciativas de promoción y readaptación del sector
DESCRIPTION:
LOCATION:
URL:https://ceeielche.emprenemjunts.es/?op=14&n=17776
END:VEVENT
END:VCALENDAR
