BEGIN:VCALENDAR
VERSION:2.0
PRODID:-//CEEI Elche//EmprenemJunts//ES
BEGIN:VEVENT
UID:Evento_17577
DTSTAMP:20200921T080151Z
DTSTART:20200922T140000Z
DTEND:20200922T150000Z
SUMMARY:Encuentro de Coaching Gratuito Online: \"El Café de los Martes\"
DESCRIPTION:Encuentros semanales para apasionados del coaching
LOCATION:
URL:https://ceeielche.emprenemjunts.es/?op=14&n=17577
END:VEVENT
END:VCALENDAR
