BEGIN:VCALENDAR
VERSION:2.0
PRODID:-//CEEI Valencia//EmprenemJunts//ES
BEGIN:VEVENT
UID:Evento_17086
DTSTAMP:20200526T155950Z
DTSTART:20200528T140000Z
DTEND:20200528T150000Z
SUMMARY:Comunicación y Alimentación. #FooduristicMeetings by KM ZERO
DESCRIPTION:¿Cómo comunicarnos con nuestros públicos en tiempos de crisis?
LOCATION:
URL:https://ceeivalencia.emprenemjunts.es/?op=14&n=17086
END:VEVENT
END:VCALENDAR
