BEGIN:VCALENDAR
VERSION:2.0
PRODID:-//CEEI Valencia//EmprenemJunts//ES
BEGIN:VEVENT
UID:Evento_16991
DTSTAMP:20200511T164531Z
DTSTART:20200514T140000Z
DTEND:20200514T150000Z
SUMMARY:Presentación Informe especial Fooduristic COVID-19
DESCRIPTION:¿Qué comeremos cuanto esto pase?
LOCATION:
URL:https://ceeivalencia.emprenemjunts.es/?op=14&n=16991
END:VEVENT
END:VCALENDAR
