BEGIN:VCALENDAR
VERSION:2.0
PRODID:-//Nacional//EmprenemJunts//ES
BEGIN:VEVENT
UID:Evento_16807
DTSTAMP:20200414T100412Z
DTSTART:20200421T143000Z
DTEND:20200421T163000Z
SUMMARY:Los caminos desconocidos de mis decisiones
DESCRIPTION:
LOCATION:
URL:https://emprenderycrecer.emprenemjunts.es/?op=14&n=16807
END:VEVENT
END:VCALENDAR
