BEGIN:VCALENDAR
VERSION:2.0
PRODID:-//CEEI Valencia//EmprenemJunts//ES
BEGIN:VEVENT
UID:Evento_16722
DTSTAMP:20200330T080015Z
DTSTART:20201126T090000Z
DTEND:20201128T180000Z
SUMMARY:Salón Internacional de la Franquicia (SIF)
DESCRIPTION:En octubre en Feria Valencia
LOCATION:Valencia (Valencia)
URL:https://ceeivalencia.emprenemjunts.es/?op=14&n=16722
GEO:39.509243;-0.426882
END:VEVENT
END:VCALENDAR
