BEGIN:VCALENDAR
VERSION:2.0
PRODID:-//Management//EmprenemJunts//ES
BEGIN:VEVENT
UID:Evento_16613
DTSTAMP:20200228T130146Z
DTSTART:20200312T080000Z
DTEND:20200312T103000Z
SUMMARY:Desayuno IEM Copywriting. Técnicas de Copy para enamorar a tu usuario.
DESCRIPTION:
LOCATION:Valencia (Valencia)
URL:https://management.emprenemjunts.es/?op=14&n=16613
GEO:39.475449;-0.384262
END:VEVENT
END:VCALENDAR
