BEGIN:VCALENDAR
VERSION:2.0
PRODID:-//CEEI Castellón//EmprenemJunts//ES
BEGIN:VEVENT
UID:Evento_16181
DTSTAMP:20191119T082009Z
DTSTART:20191209T100000Z
DTEND:20191209T130000Z
SUMMARY:Jornada taller : \"CÃ³mo y en quÃ© Ã¡reas innovar en el territorio\"
DESCRIPTION:Itinerarios para el emprendimiento y el desarrollo del territorio para Agentes Ecosistema Emprendedor CV
LOCATION:CastellÃ³ de la Plana/CastellÃ³n de la Plana (CastellÃ³n)
URL:https://ceeicastellon.emprenemjunts.es/?op=14&n=16181
GEO:-0.024387;39.983097
END:VEVENT
END:VCALENDAR
