BEGIN:VCALENDAR
VERSION:2.0
PRODID:-//CEEI Valencia//EmprenemJunts//ES
BEGIN:VEVENT
UID:Evento_16082
DTSTAMP:20191029T163236Z
DTSTART:20201014T133000Z
DTEND:20201014T173000Z
SUMMARY:Curso Power Pivot
DESCRIPTION:
LOCATION:Valencia (Valencia)
URL:https://ceeivalencia.emprenemjunts.es/?op=14&n=16082
GEO:39.475449;-0.384262
END:VEVENT
END:VCALENDAR
