BEGIN:VCALENDAR
VERSION:2.0
PRODID:-//Management//EmprenemJunts//ES
BEGIN:VEVENT
UID:Evento_16081
DTSTAMP:20191029T162557Z
DTSTART:20201117T143000Z
DTEND:20201117T183000Z
SUMMARY:Curso Power BI
DESCRIPTION:
LOCATION:Valencia (Valencia)
URL:https://management.emprenemjunts.es/?op=14&n=16081
GEO:39.475449;-0.384262
END:VEVENT
END:VCALENDAR
