BEGIN:VCALENDAR
VERSION:2.0
PRODID:-//CEEI Elche//EmprenemJunts//ES
BEGIN:VEVENT
UID:Evento_16042
DTSTAMP:20191022T063913Z
DTSTART:20191024T083000Z
DTEND:20191024T103000Z
SUMMARY:El futuro de las Smart Cities
DESCRIPTION:Mesa redonda y desayuno networking
LOCATION:Alacant/Alicante (Alicante)
URL:https://ceeielche.emprenemjunts.es/?op=14&n=16042
GEO:38.346554;-0.483857
END:VEVENT
END:VCALENDAR
